BEGIN:VCALENDAR
VERSION:2.0
PRODID:-//eventon.com NONSGML v1.0//EN
CALSCALE:GREGORIAN
METHOD:PUBLISH
BEGIN:VEVENT
UID:69ea421e8862e
DTSTAMP:20260423T160030Z
DTSTART:20230513T143000Z
DTEND:20230513T170000Z
LOCATION:
SUMMARY:Zurich Bog
DESCRIPTION:Zurich Bog\nhttps://nyflora.org/events/zurich_bog/
URL:https://nyflora.org/events/zurich_bog/
END:VEVENT
END:VCALENDAR