BEGIN:VCALENDAR
VERSION:2.0
PRODID:-//eventon.com NONSGML v1.0//EN
CALSCALE:GREGORIAN
METHOD:PUBLISH
BEGIN:VEVENT
UID:69ea9dbae623b
DTSTAMP:20260423T223122Z
DTSTART:20260801T140000Z
DTEND:20260801T190000Z
LOCATION:
SUMMARY:Iona Island Inventory
DESCRIPTION:Thank you for registering for the NY Flora Association&#8217;s 
 (NYFA&#8217;s) Iona Island Inventory on Saturday\,  August 1st. Ed McGowan 
 and Kyle Webster are the trip leaders. Closer to the trip we will send you 
 more details including where to meet. In the meantime\,  if you have any qu
 estions feel free[..]\nhttps://nyflora.org/events/iona-island-inventory/
URL:https://nyflora.org/events/iona-island-inventory/
END:VEVENT
END:VCALENDAR