BEGIN:VCALENDAR
VERSION:2.0
PRODID:-//eventon.com NONSGML v1.0//EN
CALSCALE:GREGORIAN
METHOD:PUBLISH
BEGIN:VEVENT
UID:69ea9db029071
DTSTAMP:20260423T223112Z
DTSTART:20260816T020000Z
DTEND:20260815T190000Z
LOCATION:
SUMMARY:Island Pond Paddle
DESCRIPTION:Thank you for registering for the NY Flora Association&#8217;s 
 (NYFA&#8217;s) Island Pond Paddle on Saturday\,  August 15th. Kyle Webster 
 is the trip leader. Closer to the trip we will send you more details includ
 ing where to meet. In the meantime\,  if you have any questions feel free t
 o contact us[..]\nhttps://nyflora.org/events/island-pond-paddle/
URL:https://nyflora.org/events/island-pond-paddle/
END:VEVENT
END:VCALENDAR