BEGIN:VCALENDAR
VERSION:2.0
PRODID:-//eventon.com NONSGML v1.0//EN
CALSCALE:GREGORIAN
METHOD:PUBLISH
BEGIN:VEVENT
UID:69ea9e5f37846
DTSTAMP:20260423T223407Z
DTSTART:20260822T140000Z
DTEND:20260822T170000Z
LOCATION:Braddock Bay
SUMMARY:Learn 10...Wetland Plants at Braddock Bay
DESCRIPTION:Thank you for registering for the NY Flora Association&#8217;s 
 (NYFA&#8217;s) Learn 10&#8230;Wetland Plants workshop on Saturday August 22
 th. Rachel Schultz is the trip leader. Closer to the trip she will send you
  more details including where to meet. In the meantime\,  if you have any q
 uestions feel free to contact[..]\nhttps://nyflora.org/events/learn-10-wetl
 and-plants-at-braddock-bay/
URL:https://nyflora.org/events/learn-10-wetland-plants-at-braddock-bay/
END:VEVENT
END:VCALENDAR