BEGIN:VCALENDAR
VERSION:2.0
PRODID:-//eventon.com NONSGML v1.0//EN
CALSCALE:GREGORIAN
METHOD:PUBLISH
BEGIN:VEVENT
UID:69ea9db9eac26
DTSTAMP:20260423T223121Z
DTSTART:20260614T140000Z
DTEND:20260614T200000Z
LOCATION:
SUMMARY:Hudson River Woodland and Ice Meadows
DESCRIPTION:Thank you for registering for the NY Flora Association&#8217;s 
 (NYFA&#8217;s) Hudson River Woodland and Ice Meadows field trip on Saturday
 \,  June 14th. Steve Young is the trip leader. Closer to the trip he will s
 end you more details including where to meet. In the meantime\,  if you hav
 e any questions[..]\nhttps://nyflora.org/events/hudson-river-woodland-and-i
 ce-meadows-2/
URL:https://nyflora.org/events/hudson-river-woodland-and-ice-meadows-2/
END:VEVENT
END:VCALENDAR