BEGIN:VCALENDAR
VERSION:2.0
PRODID:-//eventon.com NONSGML v1.0//EN
CALSCALE:GREGORIAN
METHOD:PUBLISH
BEGIN:VEVENT
UID:69ea9daf96afc
DTSTAMP:20260423T223111Z
DTSTART:20260712T130000Z
DTEND:20260712T180000Z
LOCATION:Adirondack Rail Trail\,  Tupper Lake 42.81692\,  -73.95572
SUMMARY:Petal Pedal along the Adirondack Rail Trail
DESCRIPTION:Thank you for registering for the NY Flora Association&#8217;s 
 (NYFA&#8217;s) Petal Pedal field trip on Sunday\,  July 12th. Steve Young a
 nd Laura Lehtonen are the trip leaders.  We will send out additional infor
 mation closer to the trip. If you have any questions feel free to contact u
 s at&nbsp;petalpedal@nyflora.org. We look[..]\nhttps://nyflora.org/events/p
 etal-pedal-along-the-adirondack-rail-trail/
URL:https://nyflora.org/events/petal-pedal-along-the-adirondack-rail-trail/
END:VEVENT
END:VCALENDAR