BEGIN:VCALENDAR
VERSION:2.0
PRODID:-//eventon.com NONSGML v1.0//EN
CALSCALE:GREGORIAN
METHOD:PUBLISH
BEGIN:VEVENT
UID:69eac7205ee54
DTSTAMP:20260424T012800Z
DTSTART:20260801T140000Z
DTEND:20260801T170000Z
LOCATION:
SUMMARY:Whiteface Mountain Alpine and Krummholz Plants
DESCRIPTION:Thank you for registering for the NY Flora Association&#8217;s 
 (NYFA&#8217;s) Whiteface Mountain Flora field trip on Saturday\,  August 1s
 t. Steve Young is the trip leader. Closer to the trip he will send you more
  details including where to meet. In the meantime\,  if you have any questi
 ons feel free to[..]\nhttps://nyflora.org/events/whiteface-mountain-alpine-
 and-krummholz-plants/
URL:https://nyflora.org/events/whiteface-mountain-alpine-and-krummholz-plants/
END:VEVENT
END:VCALENDAR