BEGIN:VCALENDAR
VERSION:2.0
PRODID:-//eventon.com NONSGML v1.0//EN
CALSCALE:GREGORIAN
METHOD:PUBLISH
BEGIN:VEVENT
UID:69ea9d77714cc
DTSTAMP:20260423T223015Z
DTSTART:20260926T130000Z
DTEND:20260926T170000Z
LOCATION:
SUMMARY:Late Summer Flora at the Solomon Grasslands
DESCRIPTION:Thank you for registering for the NY Flora Association&#8217;s 
 (NYFA&#8217;s) Late Summer Flora at the Solomon Grasslands on Saturday Sept
 ember 26th. Steve Young and Laura Lehtonen are the trip leader. Closer to t
 he trip they will send you more details including where to meet. In the mea
 ntime\,  if you have[..]\nhttps://nyflora.org/events/late-summer-flora-at-t
 he-solomon-grasslands/
URL:https://nyflora.org/events/late-summer-flora-at-the-solomon-grasslands/
END:VEVENT
END:VCALENDAR