BEGIN:VCALENDAR
VERSION:2.0
PRODID:-//eventon.com NONSGML v1.0//EN
CALSCALE:GREGORIAN
METHOD:PUBLISH
BEGIN:VEVENT
UID:69ea9e664632e
DTSTAMP:20260423T223414Z
DTSTART:20260705T140000Z
DTEND:20260705T200000Z
LOCATION:
SUMMARY:Ferris Wild Forest Foray
DESCRIPTION:Thank you for registering for the NY Flora Association&#8217;s 
 (NYFA&#8217;s) Ferris Wild Forest Foray field trip on Sunday July 5th. Skye
  van der Laan and Tom Phillips are the trip leaders. We will meet at 10:00 
 AM at the junction of Piseco Road and East Canada Creek\,  6.4 miles north[
 ..]\nhttps://nyflora.org/events/ferris-wild-forest-foray/
URL:https://nyflora.org/events/ferris-wild-forest-foray/
END:VEVENT
END:VCALENDAR