BEGIN:VCALENDAR
VERSION:2.0
PRODID:-//eventon.com NONSGML v1.0//EN
CALSCALE:GREGORIAN
METHOD:PUBLISH
BEGIN:VEVENT
UID:69ea9e262ae29
DTSTAMP:20260423T223310Z
DTSTART:20260523T140000Z
DTEND:20260523T190000Z
LOCATION:
SUMMARY:Falls Brook Magnetite Hike
DESCRIPTION:Thank you for registering for the NY Flora Association&#8217;s 
 (NYFA&#8217;s) Falls Brook Magnetite field trip on Saturday May 23rd. Mike 
 Corey is the trip leader. The NYS DEC trailhead is located off John Brannon
  Road in Irishtown\,  a very small hamlet within the Town of Minerva. The t
 railhead is located[..]\nhttps://nyflora.org/events/falls-brook-magnetite-h
 ike/
URL:https://nyflora.org/events/falls-brook-magnetite-hike/
END:VEVENT
END:VCALENDAR