BEGIN:VCALENDAR
VERSION:2.0
PRODID:-//eventon.com NONSGML v1.0//EN
CALSCALE:GREGORIAN
METHOD:PUBLISH
BEGIN:VEVENT
UID:69ea9e2d02ca9
DTSTAMP:20260423T223317Z
DTSTART:20260906T140000Z
DTEND:20260906T200000Z
LOCATION:
SUMMARY:Exploring Burned vs Unburned Forests
DESCRIPTION:Thank you for registering for the NY Flora Association&#8217;s 
 (NYFA&#8217;s) Exploring Burned vs Unburned Forests field trip on Sunday Se
 ptember 6th. Mike Kudish is the trip leader. Closer to the trip we will sen
 d you more details including where to meet. In the meantime\,  if you have 
 any questions feel[..]\nhttps://nyflora.org/events/exploring-burned-vs-unbu
 rned-forests/
URL:https://nyflora.org/events/exploring-burned-vs-unburned-forests/
END:VEVENT
END:VCALENDAR