BEGIN:VCALENDAR
VERSION:2.0
PRODID:-//eventon.com NONSGML v1.0//EN
CALSCALE:GREGORIAN
METHOD:PUBLISH
BEGIN:VEVENT
UID:69ea9e5e7bd5f
DTSTAMP:20260423T223406Z
DTSTART:20260821T140000Z
DTEND:20260821T190000Z
LOCATION:
SUMMARY:Calciphiles at Cascade
DESCRIPTION:Thank you for registering for the NY Flora Association&#8217;s 
 (NYFA&#8217;s) Calciphiles at Cascade on Friday August 21st. Erik Danielsen
  is the trip leader. Closer to the trip he will send you more details inclu
 ding where to meet. In the meantime\,  if you have any questions feel free 
 to contact us[..]\nhttps://nyflora.org/events/calciphiles-at-cascade/
URL:https://nyflora.org/events/calciphiles-at-cascade/
END:VEVENT
END:VCALENDAR