BEGIN:VCALENDAR
VERSION:2.0
PRODID:-//eventon.com NONSGML v1.0//EN
CALSCALE:GREGORIAN
METHOD:PUBLISH
BEGIN:VEVENT
UID:69ea9e5fb0703
DTSTAMP:20260423T223407Z
DTSTART:20260530T130000Z
DTEND:20260530T200000Z
LOCATION:
SUMMARY:Allenberg Bog Slog
DESCRIPTION:Allenberg Bog Slog\nhttps://nyflora.org/events/allenberg-bog-sl
 og-3/
URL:https://nyflora.org/events/allenberg-bog-slog-3/
END:VEVENT
END:VCALENDAR