BEGIN:VCALENDAR
VERSION:2.0
PRODID:-//eventon.com NONSGML v1.0//EN
CALSCALE:GREGORIAN
METHOD:PUBLISH
BEGIN:VEVENT
UID:69ea9e0bd2e66
DTSTAMP:20260423T223243Z
DTSTART:20260531T130000Z
DTEND:20260531T141500Z
LOCATION:
SUMMARY:Learn 10...Grasses\,  Sedges\,  and Rushes
DESCRIPTION:Learn 10...Grasses\,  Sedges\,  and Rushes\nhttps://nyflora.org
 /events/learn-10-grasses-sedges-and-rushes-2/
URL:https://nyflora.org/events/learn-10-grasses-sedges-and-rushes-2/
END:VEVENT
END:VCALENDAR