BEGIN:VCALENDAR
VERSION:2.0
PRODID:-//eventon.com NONSGML v1.0//EN
CALSCALE:GREGORIAN
METHOD:PUBLISH
BEGIN:VEVENT
UID:69eac64b3cea3
DTSTAMP:20260424T012427Z
DTSTART:20260529T170000Z
DTEND:20260529T203000Z
LOCATION:
SUMMARY:Botany and more Along the Blacksnake Mountain Trail
DESCRIPTION:Botany and more Along the Blacksnake Mountain Trail\nhttps://ny
 flora.org/events/botany-and-more-along-the-blacksnake-mountain-trail-2/
URL:https://nyflora.org/events/botany-and-more-along-the-blacksnake-mountain-trail-2/
END:VEVENT
END:VCALENDAR