BEGIN:VCALENDAR
VERSION:2.0
PRODID:-//eventon.com NONSGML v1.0//EN
CALSCALE:GREGORIAN
METHOD:PUBLISH
BEGIN:VEVENT
UID:69ea9dc460f13
DTSTAMP:20260423T223132Z
DTSTART:20260502T140000Z
DTEND:20260502T193000Z
LOCATION:
SUMMARY:Spring Wildflowers at Teatown
DESCRIPTION:Thank you for registering for the NY Flora Association&#8217;s 
 (NYFA&#8217;s) Spring Wildflowers at Teatown field trip on Saturday May 2nd
 . Patty Butter and Eva Giorgi are the trip leaders. Closer to the trip they
  will send you more details including where to meet. In the meantime\,  if 
 you have any[..]\nhttps://nyflora.org/events/spring-wildflowers-at-teatown/
URL:https://nyflora.org/events/spring-wildflowers-at-teatown/
END:VEVENT
END:VCALENDAR