BEGIN:VCALENDAR
VERSION:2.0
PRODID:-//eventon.com NONSGML v1.0//EN
CALSCALE:GREGORIAN
METHOD:PUBLISH
BEGIN:VEVENT
UID:69ea9dc4e1609
DTSTAMP:20260423T223132Z
DTSTART:20260627T130000Z
DTEND:20260627T160000Z
LOCATION:
SUMMARY:Petal Pedal Along the Brooklyn Greenway
DESCRIPTION:Thank you for registering for the NY Flora Association&#8217;s 
 (NYFA&#8217;s) Petal Pedal along the Brooklyn Greenway on Saturday June 27t
 h. Clara Holmes is the trip leader. Closer to the trip we will send you mor
 e details including where to meet. In the meantime\,  if you have any quest
 ions feel free[..]\nhttps://nyflora.org/events/petal-pedal-along-the-brookl
 yn-greenway/
URL:https://nyflora.org/events/petal-pedal-along-the-brooklyn-greenway/
END:VEVENT
END:VCALENDAR