BEGIN:VCALENDAR
VERSION:2.0
PRODID:-//eventon.com NONSGML v1.0//EN
CALSCALE:GREGORIAN
METHOD:PUBLISH
BEGIN:VEVENT
UID:69ea9e2e00bc5
DTSTAMP:20260423T223318Z
DTSTART:20260620T140000Z
DTEND:20260620T200000Z
LOCATION:
SUMMARY:White Lake Swamp Complex
DESCRIPTION:Thank you for registering for the NY Flora Association&#8217;s 
 (NYFA&#8217;s) White Lake field trip on Saturday\,  June 20th. Jade Martin 
 is the trip leader. In the meantime\,  if you have any questions feel free 
 to contact us at&nbsp;whitelake@nyflora.org. We look forward to seeing you 
 soon! We&#8217;ll meet at 10 am.[..]\nhttps://nyflora.org/events/white-lake
 -swamp-complex/
URL:https://nyflora.org/events/white-lake-swamp-complex/
END:VEVENT
END:VCALENDAR