BEGIN:VCALENDAR
VERSION:2.0
PRODID:-//eventon.com NONSGML v1.0//EN
CALSCALE:GREGORIAN
METHOD:PUBLISH
BEGIN:VEVENT
UID:69ea9daf2fee9
DTSTAMP:20260423T223111Z
DTSTART:20260621T140000Z
DTEND:20260621T190000Z
LOCATION:
SUMMARY:Nelson Swamp
DESCRIPTION:Thank you for registering for the NY Flora Association&#8217;s 
 (NYFA’s) Nelson Swamp Field Trip\,  led by Robert Wesley\,  on Sunday\,  
 June 21. We look forward to seeing you then. We’ll be sending additional 
 information before the trip. In the meantime if you have any questions feel
  free to contact us[..]\nhttps://nyflora.org/events/nelson-swamp/
URL:https://nyflora.org/events/nelson-swamp/
END:VEVENT
END:VCALENDAR