BEGIN:VCALENDAR
VERSION:2.0
PRODID:-//eventon.com NONSGML v1.0//EN
CALSCALE:GREGORIAN
METHOD:PUBLISH
BEGIN:VEVENT
UID:69ea9dba6aad0
DTSTAMP:20260423T223122Z
DTSTART:20260628T130000Z
DTEND:20260628T160000Z
LOCATION:
SUMMARY:Learn 10...Bryophytes at High Meadow Preserve
DESCRIPTION:Thank you for registering for the NY Flora Association&#8217;s 
 (NYFA&#8217;s) Learn 10&#8230;Trees at High Meadow Preserve on Sunday June 
 2th. Dan Spada is your instructor. Closer to the trip we will send you more
  details including where to meet. In the meantime\,  if you have any questi
 ons feel free to[..]\nhttps://nyflora.org/events/learn-10-bryophytes-at-hig
 h-meadow-preserve/
URL:https://nyflora.org/events/learn-10-bryophytes-at-high-meadow-preserve/
END:VEVENT
END:VCALENDAR