BEGIN:VCALENDAR
VERSION:2.0
PRODID:-//eventon.com NONSGML v1.0//EN
CALSCALE:GREGORIAN
METHOD:PUBLISH
BEGIN:VEVENT
UID:69ea9dee2e652
DTSTAMP:20260423T223214Z
DTSTART:20260606T140000Z
DTEND:20260606T190000Z
LOCATION:
SUMMARY:Gadway Sandstone Pavement Barrens
DESCRIPTION:Thank you for registering for the NY Flora Association&#8217;s 
 (NYFA&#8217;s) Galway Sandstone Pavement Barrens on Saturday June 6th. Ken 
 Adams is the trip leader. Closer to the trip we will send you more details 
 including where to meet. In the meantime\,  if you have any questions feel 
 free to contact[..]\nhttps://nyflora.org/events/gadway-sandstone-pavement-b
 arrens/
URL:https://nyflora.org/events/gadway-sandstone-pavement-barrens/
END:VEVENT
END:VCALENDAR