BEGIN:VCALENDAR
VERSION:2.0
PRODID:-//eventon.com NONSGML v1.0//EN
CALSCALE:GREGORIAN
METHOD:PUBLISH
BEGIN:VEVENT
UID:69ea9e654d25d
DTSTAMP:20260423T223413Z
DTSTART:20260530T130000Z
DTEND:20260530T210000Z
LOCATION:
SUMMARY:Exploring a Newly Described Forest Community
DESCRIPTION:Thank you for registering for the NY Flora Association&#8217;s 
 (NYFA&#8217;s) Exploring a Newly Described Forest Community field trip on S
 unday May 30th. Chris Graham and Andy Cortese are the trip leaders. Closer 
 to the trip they will send you more details including where to meet. In the
  meantime\,  if you[..]\nhttps://nyflora.org/events/exploring-a-newly-descr
 ibed-forest-community/
URL:https://nyflora.org/events/exploring-a-newly-described-forest-community/
END:VEVENT
END:VCALENDAR