BEGIN:VCALENDAR
VERSION:2.0
PRODID:-//eventon.com NONSGML v1.0//EN
CALSCALE:GREGORIAN
METHOD:PUBLISH
BEGIN:VEVENT
UID:69ea9e2d7616d
DTSTAMP:20260423T223317Z
DTSTART:20260613T140000Z
DTEND:20260613T200000Z
LOCATION:
SUMMARY:Lucky Star Alvar Barrens
DESCRIPTION:Thank you for registering for the NY Flora Association&#8217;s 
 (NYFA&#8217;s) Lucky Star Alvar Barrens field trip on Saturday June 13th. A
 nne Johnson and Steven Daniel are the trip leaders. Closer to the trip we w
 ill send you more details including where to meet. In the meantime\,  if yo
 u have any[..]\nhttps://nyflora.org/events/lucky-star-alvar-barrens/
URL:https://nyflora.org/events/lucky-star-alvar-barrens/
END:VEVENT
END:VCALENDAR