BEGIN:VCALENDAR
VERSION:2.0
PRODID:-//eventon.com NONSGML v1.0//EN
CALSCALE:GREGORIAN
METHOD:PUBLISH
BEGIN:VEVENT
UID:69ea9e0cd2b46
DTSTAMP:20260423T223244Z
DTSTART:20261003T140000Z
DTEND:20261003T190000Z
LOCATION:
SUMMARY:Wild Whirlpool
DESCRIPTION:Thank you for registering for the NY Flora Association&#8217;s 
 (NYFA&#8217;s) Wild Whirlpool on Saturday\,  October 3rd. Jillian Harris an
 d Kyle Webster are the trip leaders. Closer to the trip we will send you mo
 re details including where to meet. In the meantime\,  if you have any ques
 tions feel free to[..]\nhttps://nyflora.org/events/wild-whirlpool/
URL:https://nyflora.org/events/wild-whirlpool/
END:VEVENT
END:VCALENDAR