BEGIN:VCALENDAR
VERSION:2.0
PRODID:-//eventon.com NONSGML v1.0//EN
CALSCALE:GREGORIAN
METHOD:PUBLISH
BEGIN:VEVENT
UID:69ea9e64bb7be
DTSTAMP:20260423T223412Z
DTSTART:20260612T140000Z
DTEND:20260612T190000Z
LOCATION:
SUMMARY:Trout Pond Puttering
DESCRIPTION:Thank you for registering for the NY Flora Association&#8217;s 
 (NYFA&#8217;s) Trout Pond Puttering on Friday\,  June 12th. Aaron Heminway 
 and Kyle Webster are the trip leaders. Closer to the trip we will send you 
 more details including where to meet. In the meantime\,  if you have any qu
 estions feel free[..]\nhttps://nyflora.org/events/trout-pond-puttering/
URL:https://nyflora.org/events/trout-pond-puttering/
END:VEVENT
END:VCALENDAR