BEGIN:VCALENDAR
VERSION:2.0
PRODID:-//eventon.com NONSGML v1.0//EN
CALSCALE:GREGORIAN
METHOD:PUBLISH
BEGIN:VEVENT
UID:69ea9dc566785
DTSTAMP:20260423T223133Z
DTSTART:20260926T140000Z
DTEND:20260926T190000Z
LOCATION:
SUMMARY:Montauk Outer Beach
DESCRIPTION:Thank you for registering for the NY Flora Association&#8217;s 
 (NYFA&#8217;s) Montauk County Park field trip on Saturday\,  September 26th
 . Vicki Bustamante is the trip leader. Closer to the trip she will send you
  more details. In the meantime\,  if you have any questions feel free to co
 ntact us at montauk@nyflora.org. We[..]\nhttps://nyflora.org/events/montau
 k-outer-beach/
URL:https://nyflora.org/events/montauk-outer-beach/
END:VEVENT
END:VCALENDAR