BEGIN:VCALENDAR
VERSION:2.0
PRODID:-//eventon.com NONSGML v1.0//EN
CALSCALE:GREGORIAN
METHOD:PUBLISH
BEGIN:VEVENT
UID:69ea9d768aaa2
DTSTAMP:20260423T223014Z
DTSTART:20260328T140000Z
DTEND:20260328T193000Z
LOCATION:Onondaga Lake Visitors Center
SUMMARY:Identification of Plants in Winter
DESCRIPTION:Thank you for registering for the NY Flora Association&#8217;s 
 (NYFA&#8217;s) Identification of Plants in Winter Workshop\,  beginning at 
 10 am on January 18th at the Onondaga Lake Visitors Center near the NYS Fai
 rgrounds\,  near Syracuse. Joe McMullen is your instructor. Closer to the w
 orkshop he will send you more details\, [..]\nhttps://nyflora.org/events/wo
 rkshop-identification-of-plants-in-winter-2/
URL:https://nyflora.org/events/workshop-identification-of-plants-in-winter-2/
END:VEVENT
END:VCALENDAR