BEGIN:VCALENDAR
VERSION:2.0
PRODID:-//eventon.com NONSGML v1.0//EN
CALSCALE:GREGORIAN
METHOD:PUBLISH
BEGIN:VEVENT
UID:69ea9e0be3e62
DTSTAMP:20260423T223243Z
DTSTART:20260620T130000Z
DTEND:20260620T200000Z
LOCATION:
SUMMARY:Updating the Black Rock Forest Flora
DESCRIPTION:Thank you for registering for the NY Flora Association&#8217;s 
 Updating the Black Rock Forest Flora on Saturday June 20th from 9 am &#8211
 ; 4 pm. Christian Liriano is the trip leader. Closer to the trip date we wi
 ll send more details including where to meet. In the meantime\,  if you[..]
 \nhttps://nyflora.org/events/updating-the-black-rock-forest-flora/
URL:https://nyflora.org/events/updating-the-black-rock-forest-flora/
END:VEVENT
END:VCALENDAR