BEGIN:VCALENDAR
VERSION:2.0
PRODID:-//eventon.com NONSGML v1.0//EN
CALSCALE:GREGORIAN
METHOD:PUBLISH
BEGIN:VEVENT
UID:69ea9ded9c4cf
DTSTAMP:20260423T223213Z
DTSTART:20260620T140000Z
DTEND:20260620T210000Z
LOCATION:
SUMMARY:Newcomb Rich Peatland Roam
DESCRIPTION:Thank you for registering for the NY Flora Association&#8217;s 
 (NYFA&#8217;s) Newcomb Rich Peatlands field trip on Saturday June 20th. Chr
 is Graham is the trip leader. Closer to the trip he will send you more deta
 ils including where to meet. In the meantime\,  if you have any questions f
 eel free to[..]\nhttps://nyflora.org/events/newcomb-rich-peatland-roam/
URL:https://nyflora.org/events/newcomb-rich-peatland-roam/
END:VEVENT
END:VCALENDAR