BEGIN:VCALENDAR
VERSION:2.0
PRODID:-//eventon.com NONSGML v1.0//EN
CALSCALE:GREGORIAN
METHOD:PUBLISH
BEGIN:VEVENT
UID:69ea9deeab35e
DTSTAMP:20260423T223214Z
DTSTART:20260718T130000Z
DTEND:20260718T200000Z
LOCATION:
SUMMARY:Riverhead Rendezvous
DESCRIPTION:Thank you for registering for the NY Flora Association&#8217;s 
 (NYFA&#8217;s) Riverhead Rendezvous field trip on Saturday\,  July 18th. Da
 vid Werier is the trip leader. Closer to the trip he will send you more det
 ails including where to meet. In the meantime\,  if you have any questions 
 feel free to contact[..]\nhttps://nyflora.org/events/riverhead-rendezvous/
URL:https://nyflora.org/events/riverhead-rendezvous/
END:VEVENT
END:VCALENDAR