BEGIN:VCALENDAR
VERSION:2.0
PRODID:-//eventon.com NONSGML v1.0//EN
CALSCALE:GREGORIAN
METHOD:PUBLISH
BEGIN:VEVENT
UID:69ea9d766a08f
DTSTAMP:20260423T223014Z
DTSTART:20260913T140000Z
DTEND:20260913T190000Z
LOCATION:
SUMMARY:Baltimore Woods Botany
DESCRIPTION:Thank you for registering for the NY Flora Association&#8217;s 
 (NYFA&#8217;s) Baltimore Woods Botany field trip on Sunday September13th. D
 avid DuBois is the trip leader. Closer to the trip he will send you more de
 tails including where to meet. In the meantime\,  if you have any questions
  feel free to contact[..]\nhttps://nyflora.org/events/baltimore-woods-botan
 y/
URL:https://nyflora.org/events/baltimore-woods-botany/
END:VEVENT
END:VCALENDAR