BEGIN:VCALENDAR
VERSION:2.0
PRODID:-//eventon.com NONSGML v1.0//EN
CALSCALE:GREGORIAN
METHOD:PUBLISH
BEGIN:VEVENT
UID:69ea9e5e84233
DTSTAMP:20260423T223406Z
DTSTART:20260516T140000Z
DTEND:20260516T200000Z
LOCATION:
SUMMARY:Clark Reservation Botany Crawl
DESCRIPTION:Thank you for registering for the NY Flora Association&#8217;s 
 (NYFA&#8217;s) Clark Reservation Botany Crawl Field Trip led by Raquel Menn
 ella. The trip will start at 10 AM on Saturday May 16. Closer to the trip w
 e will send information on the meeting location and other details. If you h
 ave any[..]\nhttps://nyflora.org/events/clark-reservation-botany-crawl/
URL:https://nyflora.org/events/clark-reservation-botany-crawl/
END:VEVENT
END:VCALENDAR