BEGIN:VCALENDAR
VERSION:2.0
PRODID:-//eventon.com NONSGML v1.0//EN
CALSCALE:GREGORIAN
METHOD:PUBLISH
BEGIN:VEVENT
UID:69ea9e0c55f0a
DTSTAMP:20260423T223244Z
DTSTART:20260912T130000Z
DTEND:20260912T160000Z
LOCATION:
SUMMARY:Learn 10...Plants at Albany Pine Bush
DESCRIPTION:Thank you for registering for the NY Flora Association&#8217;s 
 (NYFA&#8217;s) Learn 10&#8230; Albany Pine Bush Plants with Chris Graham at
  the Albany Pine Bush Preserve. The trip will start at 9 AM on Saturday Sep
 tember 12. Closer to the trip we will send information on the meeting locat
 ion. If you[..]\nhttps://nyflora.org/events/learn-10-plants-at-albany-pine-
 bush/
URL:https://nyflora.org/events/learn-10-plants-at-albany-pine-bush/
END:VEVENT
END:VCALENDAR