BEGIN:VCALENDAR
VERSION:2.0
PRODID:-//eventon.com NONSGML v1.0//EN
CALSCALE:GREGORIAN
METHOD:PUBLISH
BEGIN:VEVENT
UID:69ea9e2d02ca9
DTSTAMP:20260423T223317Z
DTSTART:20260426T170000Z
DTEND:20260426T200000Z
LOCATION:
SUMMARY:Learn 10...Trees at Rugar Woods
DESCRIPTION:Thank you for registering for the NY Flora Association&#8217;s 
 (NYFA&#8217;s) Learn 10&#8230;Trees at Rugar Woods on Sunday April 26th.AmÃ
 ©lie Przedwiecki and Zoe Fox are your instructors. Closer to the trip we wi
 ll send you more details including where to meet. In the meantime\,  if you
  have any questions feel free[..]\nhttps://nyflora.org/events/learn-10-tree
 s-at-ugar-woods/
URL:https://nyflora.org/events/learn-10-trees-at-ugar-woods/
END:VEVENT
END:VCALENDAR