BEGIN:VCALENDAR
VERSION:2.0
PRODID:-//eventon.com NONSGML v1.0//EN
CALSCALE:GREGORIAN
METHOD:PUBLISH
BEGIN:VEVENT
UID:69ea9dc466732
DTSTAMP:20260423T223132Z
DTSTART:20260522T230000Z
DTEND:20260524T200000Z
LOCATION:
SUMMARY:Introduction to Mosses and Liverworts
DESCRIPTION:Introduction to Mosses and Liverworts\nhttps://nyflora.org/even
 ts/introduction-to-bryophytes-2026/
URL:https://nyflora.org/events/introduction-to-bryophytes-2026/
END:VEVENT
END:VCALENDAR