BEGIN:VCALENDAR
VERSION:2.0
PRODID:-//eventon.com NONSGML v1.0//EN
CALSCALE:GREGORIAN
METHOD:PUBLISH
BEGIN:VEVENT
UID:69eac6664eeb5
DTSTAMP:20260424T012454Z
DTSTART:20260517T140000Z
DTEND:20260517T153000Z
LOCATION:
SUMMARY:Spring Wildflowers at Gannett Hill
DESCRIPTION:Thank you for registering for the NY Flora Association&#8217;s 
 (NYFA&#8217;s) Spring Wildflowers at Gannett Hill field trip on Sunday May 
 17th. Emily DeBolt is the trip leader. Closer to the trip she will send you
  more details. In the meantime\,  if you have any questions feel free to co
 ntact us[..]\nhttps://nyflora.org/events/spring-wildflowers-at-gannett-hill
 /
URL:https://nyflora.org/events/spring-wildflowers-at-gannett-hill/
END:VEVENT
END:VCALENDAR