BEGIN:VCALENDAR
VERSION:2.0
PRODID:-//eventon.com NONSGML v1.0//EN
CALSCALE:GREGORIAN
METHOD:PUBLISH
BEGIN:VEVENT
UID:69ea9dedafec6
DTSTAMP:20260423T223213Z
DTSTART:20260607T140000Z
DTEND:20260607T180000Z
LOCATION:
SUMMARY:Goose Egg Gambol
DESCRIPTION:Thank you for registering for the NY Flora Association&#8217;s 
 (NYFA&#8217;s) Deep Notch Dalliance field trip on Saturday\,  May 10th. Ric
 h Ring is the trip leader. Closer to the trip he will send you more details
  including where to meet. In the meantime\,  if you have any questions feel
  free to[..]\nhttps://nyflora.org/events/goose-egg-gambol/
URL:https://nyflora.org/events/goose-egg-gambol/
END:VEVENT
END:VCALENDAR