BEGIN:VCALENDAR
VERSION:2.0
PRODID:-//eventon.com NONSGML v1.0//EN
CALSCALE:GREGORIAN
METHOD:PUBLISH
BEGIN:VEVENT
UID:69ea9e273d684
DTSTAMP:20260423T223311Z
DTSTART:20260927T140000Z
DTEND:20260927T170000Z
LOCATION:
SUMMARY:Sears Bellows Saunter
DESCRIPTION:Thank you for registering for the NY Flora Association&#8217;s 
 (NYFA’s) Sears Bellows Saunter Field Trip\,  led by Tomás Todisco\,  on 
 Sunday\,  September 27th. We look forward to seeing you then. We’ll be se
 nding additional information before the trip. In the meantime if you have a
 ny questions feel free to contact[..]\nhttps://nyflora.org/events/sears-bel
 lows-saunter/
URL:https://nyflora.org/events/sears-bellows-saunter/
END:VEVENT
END:VCALENDAR