BEGIN:VCALENDAR
VERSION:2.0
PRODID:-//eventon.com NONSGML v1.0//EN
CALSCALE:GREGORIAN
METHOD:PUBLISH
BEGIN:VEVENT
UID:69ea9e26bf5e8
DTSTAMP:20260423T223310Z
DTSTART:20260828T210000Z
DTEND:20260830T180000Z
LOCATION:
SUMMARY:Honeoye Hootenanny
DESCRIPTION:Thank you for registering for the NY Flora Association&#8217;s 
 (NYFA&#8217;s) Honeoye Hootenanny field trip from Friday\,  August 28th to 
 Sunday\,  August 30th. Maura Sullivan\,  Kyle Webster\,  and Bruce Gilman a
 re the trip leaders. Closer to the trip we will send you more details inclu
 ding where to meet. In the meantime\, [..]\nhttps://nyflora.org/events/hone
 oye-hootenanny/
URL:https://nyflora.org/events/honeoye-hootenanny/
END:VEVENT
END:VCALENDAR