BEGIN:VCALENDAR
VERSION:2.0
PRODID:-//eventon.com NONSGML v1.0//EN
CALSCALE:GREGORIAN
METHOD:PUBLISH
BEGIN:VEVENT
UID:69ea9e65abb79
DTSTAMP:20260423T223413Z
DTSTART:20260731T140000Z
DTEND:20260731T210000Z
LOCATION:
SUMMARY:Plant and Lichen Collection and Preservation Workshop
DESCRIPTION:\nhttps://nyflora.org/events/plant-and-lichen-collection-and-pr
 eservation-workshop/
URL:https://nyflora.org/events/plant-and-lichen-collection-and-preservation-workshop/
END:VEVENT
END:VCALENDAR