BEGIN:VCALENDAR
VERSION:2.0
PRODID:-//eventon.com NONSGML v1.0//EN
CALSCALE:GREGORIAN
METHOD:PUBLISH
BEGIN:VEVENT
UID:69ea9db9d5558
DTSTAMP:20260423T223121Z
DTSTART:20260523T140000Z
DTEND:20260523T190000Z
LOCATION:
SUMMARY:Botanizing Otstenhró:ken
DESCRIPTION:\nhttps://nyflora.org/events/botanizing-otstenhroken/
URL:https://nyflora.org/events/botanizing-otstenhroken/
END:VEVENT
END:VCALENDAR